BEGIN:VCALENDAR
VERSION:2.0
PRODID:https://Dresden.tischtennislive.de
METHOD:PUBLISH
X-WR-CALNAME:TischtennisLive-Spieltermine
X-WR-TIMEZONE:Europe/Berlin
BEGIN:VEVENT
UID: W4S_96_992999
ORGANIZER;CN="Rico Felix":MAILTO:NoReply@TischtennisLive.de
SUMMARY:Sportfreunde Dresden 2 - SV Sachsenw. Dresden 2 (Bezirkspokal - Erwachsene)
DESCRIPTION:Sportfreunde Dresden 2 - SV Sachsenw. Dresden 2 (Bezirkspokal - Erwachsene)
LOCATION:55.MS, Plauenscher Ring 9, 01187, Dresden
CLASS:PUBLIC
DTSTART:20250830T080000Z
DTEND:20250830T103000Z
DTSTAMP:20260423T174916Z
END:VEVENT
BEGIN:VEVENT
UID: W4S_96_993002
ORGANIZER;CN="Rico Felix":MAILTO:NoReply@TischtennisLive.de
SUMMARY:SV Sachsenw. Dresden 2 - TTV Burgstädt 3 (Bezirkspokal - Erwachsene)
DESCRIPTION:SV Sachsenw. Dresden 2 - TTV Burgstädt 3 (Bezirkspokal - Erwachsene)
LOCATION:55.MS, Plauenscher Ring 9, 01187, Dresden
CLASS:PUBLIC
DTSTART:20250830T093000Z
DTEND:20250830T120000Z
DTSTAMP:20260423T174916Z
END:VEVENT
BEGIN:VEVENT
UID: W4S_96_993004
ORGANIZER;CN="Rico Felix":MAILTO:NoReply@TischtennisLive.de
SUMMARY:SV Sachsenw. Dresden 2 - TTV Luchse Riesa (Bezirkspokal - Erwachsene)
DESCRIPTION:SV Sachsenw. Dresden 2 - TTV Luchse Riesa (Bezirkspokal - Erwachsene)
LOCATION:55.MS, Plauenscher Ring 9, 01187, Dresden
CLASS:PUBLIC
DTSTART:20250830T110000Z
DTEND:20250830T133000Z
DTSTAMP:20260423T174916Z
END:VEVENT
BEGIN:VEVENT
UID: W4S_96_991399
ORGANIZER;CN="Rico Felix":MAILTO:NoReply@TischtennisLive.de
SUMMARY:Lichtenauer SC - SV Sachsenw. Dresden 2 (2. Bezirksliga Erwachsene, Gruppe 2)
DESCRIPTION:Lichtenauer SC - SV Sachsenw. Dresden 2 (2. Bezirksliga Erwachsene, Gruppe 2)
LOCATION:Sporthalle Neue Mittelschule Lichtenau, Bahnhofstraße 11, 09244, Lichtenau
CLASS:PUBLIC
DTSTART:20250920T110000Z
DTEND:20250920T133000Z
DTSTAMP:20260423T174916Z
END:VEVENT
BEGIN:VEVENT
UID: W4S_96_991409
ORGANIZER;CN="Rico Felix":MAILTO:NoReply@TischtennisLive.de
SUMMARY:SV Sachsenw. Dresden 2 - Sportfreunde Dresden (2. Bezirksliga Erwachsene, Gruppe 2)
DESCRIPTION:SV Sachsenw. Dresden 2 - Sportfreunde Dresden (2. Bezirksliga Erwachsene, Gruppe 2)
LOCATION:Schule am Landgraben, Pirnaer Landstr. 55, 01257, Dresden
CLASS:PUBLIC
DTSTART:20250921T100000Z
DTEND:20250921T123000Z
DTSTAMP:20260423T174916Z
END:VEVENT
BEGIN:VEVENT
UID: W4S_96_991410
ORGANIZER;CN="Rico Felix":MAILTO:NoReply@TischtennisLive.de
SUMMARY:SV Saxonia Freiberg - SV Sachsenw. Dresden 2 (2. Bezirksliga Erwachsene, Gruppe 2)
DESCRIPTION:SV Saxonia Freiberg - SV Sachsenw. Dresden 2 (2. Bezirksliga Erwachsene, Gruppe 2)
LOCATION:TH BSZ für Wirtschaft, Bergstiftsgasse 1, 09599, Freiberg
CLASS:PUBLIC
DTSTART:20251011T160000Z
DTEND:20251011T183000Z
DTSTAMP:20260423T174916Z
END:VEVENT
BEGIN:VEVENT
UID: W4S_96_999710
ORGANIZER;CN="Rico Felix":MAILTO:NoReply@TischtennisLive.de
SUMMARY:TTV Dresden 2007 3 - SV Sachsenw. Dresden 2 (Bezirkspokal - Erwachsene)
DESCRIPTION:TTV Dresden 2007 3 - SV Sachsenw. Dresden 2 (Bezirkspokal - Erwachsene)
LOCATION:BSZ für Wirtschaft „Prof. Dr. Zeigner“, Tieckstraße 14, 01099, Dresden
CLASS:PUBLIC
DTSTART:20251019T080000Z
DTEND:20251019T103000Z
DTSTAMP:20260423T174916Z
END:VEVENT
BEGIN:VEVENT
UID: W4S_96_999711
ORGANIZER;CN="Rico Felix":MAILTO:NoReply@TischtennisLive.de
SUMMARY:SV Sachsenw. Dresden 2 - TTVG Oederan-Falk. 2 (Bezirkspokal - Erwachsene)
DESCRIPTION:SV Sachsenw. Dresden 2 - TTVG Oederan-Falk. 2 (Bezirkspokal - Erwachsene)
LOCATION:BSZ für Wirtschaft „Prof. Dr. Zeigner“, Tieckstraße 14, 01099, Dresden
CLASS:PUBLIC
DTSTART:20251019T090000Z
DTEND:20251019T113000Z
DTSTAMP:20260423T174916Z
END:VEVENT
BEGIN:VEVENT
UID: W4S_96_991416
ORGANIZER;CN="Rico Felix":MAILTO:NoReply@TischtennisLive.de
SUMMARY:TTC Elbe Dresden 6 - SV Sachsenw. Dresden 2 (2. Bezirksliga Erwachsene, Gruppe 2)
DESCRIPTION:TTC Elbe Dresden 6 - SV Sachsenw. Dresden 2 (2. Bezirksliga Erwachsene, Gruppe 2)
LOCATION:Turnhalle der 113. Grundschule, Georg-Nerlich-Str. 1, 01307, Dresden
CLASS:PUBLIC
DTSTART:20251025T120000Z
DTEND:20251025T143000Z
DTSTAMP:20260423T174916Z
END:VEVENT
BEGIN:VEVENT
UID: W4S_96_991425
ORGANIZER;CN="Rico Felix":MAILTO:NoReply@TischtennisLive.de
SUMMARY:SV Sachsenw. Dresden 2 - TTC Elbe Dresden 4 (2. Bezirksliga Erwachsene, Gruppe 2)
DESCRIPTION:SV Sachsenw. Dresden 2 - TTC Elbe Dresden 4 (2. Bezirksliga Erwachsene, Gruppe 2)
LOCATION:Schule am Landgraben, Pirnaer Landstr. 55, 01257, Dresden
CLASS:PUBLIC
DTSTART:20251108T173000Z
DTEND:20251108T200000Z
DTSTAMP:20260423T174916Z
END:VEVENT
BEGIN:VEVENT
UID: W4S_96_991398
ORGANIZER;CN="Rico Felix":MAILTO:NoReply@TischtennisLive.de
SUMMARY:SV Sachsenw. Dresden 2 - Langenstriegiser SV (2. Bezirksliga Erwachsene, Gruppe 2)
DESCRIPTION:SV Sachsenw. Dresden 2 - Langenstriegiser SV (2. Bezirksliga Erwachsene, Gruppe 2)
LOCATION:Schule am Landgraben, Pirnaer Landstr. 55, 01257, Dresden
CLASS:PUBLIC
DTSTART:20251115T173000Z
DTEND:20251115T200000Z
DTSTAMP:20260423T174916Z
END:VEVENT
BEGIN:VEVENT
UID: W4S_96_991431
ORGANIZER;CN="Rico Felix":MAILTO:NoReply@TischtennisLive.de
SUMMARY:SV Sachsenw. Dresden 2 - HSG Mittweida (2. Bezirksliga Erwachsene, Gruppe 2)
DESCRIPTION:SV Sachsenw. Dresden 2 - HSG Mittweida (2. Bezirksliga Erwachsene, Gruppe 2)
LOCATION:Schule am Landgraben, Pirnaer Landstr. 55, 01257, Dresden
CLASS:PUBLIC
DTSTART:20251122T173000Z
DTEND:20251122T200000Z
DTSTAMP:20260423T174916Z
END:VEVENT
BEGIN:VEVENT
UID: W4S_96_991404
ORGANIZER;CN="Rico Felix":MAILTO:NoReply@TischtennisLive.de
SUMMARY:SV Motor Mickten-DD 2 - SV Sachsenw. Dresden 2 (2. Bezirksliga Erwachsene, Gruppe 2)
DESCRIPTION:SV Motor Mickten-DD 2 - SV Sachsenw. Dresden 2 (2. Bezirksliga Erwachsene, Gruppe 2)
LOCATION:Sportcenter Motor Mickten, Pestalozziplatz 20, 01127, Dresden
CLASS:PUBLIC
DTSTART:20251129T130000Z
DTEND:20251129T153000Z
DTSTAMP:20260423T174916Z
END:VEVENT
BEGIN:VEVENT
UID: W4S_96_991440
ORGANIZER;CN="Rico Felix":MAILTO:NoReply@TischtennisLive.de
SUMMARY:SV Sachsenw. Dresden 2 - VfB Hellerau-Klotz. (2. Bezirksliga Erwachsene, Gruppe 2)
DESCRIPTION:SV Sachsenw. Dresden 2 - VfB Hellerau-Klotz. (2. Bezirksliga Erwachsene, Gruppe 2)
LOCATION:Schule am Landgraben, Pirnaer Landstr. 55, 01257, Dresden
CLASS:PUBLIC
DTSTART:20251206T173000Z
DTEND:20251206T200000Z
DTSTAMP:20260423T174916Z
END:VEVENT
BEGIN:VEVENT
UID: W4S_96_991103
ORGANIZER;CN="Rico Felix":MAILTO:NoReply@TischtennisLive.de
SUMMARY:Sportfreunde Dresden - SV Sachsenw. Dresden 2 (2. Bezirksliga Erwachsene, Gruppe 2)
DESCRIPTION:Sportfreunde Dresden - SV Sachsenw. Dresden 2 (2. Bezirksliga Erwachsene, Gruppe 2)
LOCATION:55.MS, Plauenscher Ring 9, 01187, Dresden
CLASS:PUBLIC
DTSTART:20260111T090000Z
DTEND:20260111T113000Z
DTSTAMP:20260423T174916Z
END:VEVENT
BEGIN:VEVENT
UID: W4S_96_991105
ORGANIZER;CN="Rico Felix":MAILTO:NoReply@TischtennisLive.de
SUMMARY:SV Motor Mickten-DD 2 - SV Sachsenw. Dresden 2 (2. Bezirksliga Erwachsene, Gruppe 2)
DESCRIPTION:SV Motor Mickten-DD 2 - SV Sachsenw. Dresden 2 (2. Bezirksliga Erwachsene, Gruppe 2)
LOCATION:Sportcenter Motor Mickten, Pestalozziplatz 20, 01127, Dresden
CLASS:PUBLIC
DTSTART:20260117T180000Z
DTEND:20260117T203000Z
DTSTAMP:20260423T174916Z
END:VEVENT
BEGIN:VEVENT
UID: W4S_96_991110
ORGANIZER;CN="Rico Felix":MAILTO:NoReply@TischtennisLive.de
SUMMARY:Langenstriegiser SV - SV Sachsenw. Dresden 2 (2. Bezirksliga Erwachsene, Gruppe 2)
DESCRIPTION:Langenstriegiser SV - SV Sachsenw. Dresden 2 (2. Bezirksliga Erwachsene, Gruppe 2)
LOCATION:LSV-Sport-Zentrum, An der Kleinen Striegis 51, 09669, Frankenberg/Sa. OT Langenstriegis
CLASS:PUBLIC
DTSTART:20260124T173000Z
DTEND:20260124T200000Z
DTSTAMP:20260423T174916Z
END:VEVENT
BEGIN:VEVENT
UID: W4S_96_991114
ORGANIZER;CN="Rico Felix":MAILTO:NoReply@TischtennisLive.de
SUMMARY:Lichtenauer SC - SV Sachsenw. Dresden 2 (2. Bezirksliga Erwachsene, Gruppe 2)
DESCRIPTION:Lichtenauer SC - SV Sachsenw. Dresden 2 (2. Bezirksliga Erwachsene, Gruppe 2)
LOCATION:Sporthalle Neue Mittelschule Lichtenau, Bahnhofstraße 11, 09244, Lichtenau
CLASS:PUBLIC
DTSTART:20260207T120000Z
DTEND:20260207T143000Z
DTSTAMP:20260423T174916Z
END:VEVENT
BEGIN:VEVENT
UID: W4S_96_991118
ORGANIZER;CN="Rico Felix":MAILTO:NoReply@TischtennisLive.de
SUMMARY:SV Sachsenw. Dresden 2 - TTC Elbe Dresden 6 (2. Bezirksliga Erwachsene, Gruppe 2)
DESCRIPTION:SV Sachsenw. Dresden 2 - TTC Elbe Dresden 6 (2. Bezirksliga Erwachsene, Gruppe 2)
LOCATION:33. Grundschule, Schilfweg 3, 01237, Dresden
CLASS:PUBLIC
DTSTART:20260228T130000Z
DTEND:20260228T153000Z
DTSTAMP:20260423T174916Z
END:VEVENT
BEGIN:VEVENT
UID: W4S_96_991129
ORGANIZER;CN="Rico Felix":MAILTO:NoReply@TischtennisLive.de
SUMMARY:TTC Elbe Dresden 4 - SV Sachsenw. Dresden 2 (2. Bezirksliga Erwachsene, Gruppe 2)
DESCRIPTION:TTC Elbe Dresden 4 - SV Sachsenw. Dresden 2 (2. Bezirksliga Erwachsene, Gruppe 2)
LOCATION:Turnhalle der 113. Grundschule, Georg-Nerlich-Str. 1, 01307, Dresden
CLASS:PUBLIC
DTSTART:20260314T173000Z
DTEND:20260314T200000Z
DTSTAMP:20260423T174916Z
END:VEVENT
BEGIN:VEVENT
UID: W4S_96_991133
ORGANIZER;CN="Rico Felix":MAILTO:NoReply@TischtennisLive.de
SUMMARY:HSG Mittweida - SV Sachsenw. Dresden 2 (2. Bezirksliga Erwachsene, Gruppe 2)
DESCRIPTION:HSG Mittweida - SV Sachsenw. Dresden 2 (2. Bezirksliga Erwachsene, Gruppe 2)
LOCATION:TH Lauenhainer Straße 22, Lauenhainer Str. 22, 09648, Mittweida
CLASS:PUBLIC
DTSTART:20260328T130000Z
DTEND:20260328T153000Z
DTSTAMP:20260423T174916Z
END:VEVENT
BEGIN:VEVENT
UID: W4S_96_991137
ORGANIZER;CN="Rico Felix":MAILTO:NoReply@TischtennisLive.de
SUMMARY:SV Sachsenw. Dresden 2 - SV Saxonia Freiberg (2. Bezirksliga Erwachsene, Gruppe 2)
DESCRIPTION:SV Sachsenw. Dresden 2 - SV Saxonia Freiberg (2. Bezirksliga Erwachsene, Gruppe 2)
LOCATION:33. Grundschule, Schilfweg 3, 01237, Dresden
CLASS:PUBLIC
DTSTART:20260411T150000Z
DTEND:20260411T173000Z
DTSTAMP:20260423T174916Z
END:VEVENT
BEGIN:VEVENT
UID: W4S_96_991141
ORGANIZER;CN="Rico Felix":MAILTO:NoReply@TischtennisLive.de
SUMMARY:VfB Hellerau-Klotz. - SV Sachsenw. Dresden 2 (2. Bezirksliga Erwachsene, Gruppe 2)
DESCRIPTION:VfB Hellerau-Klotz. - SV Sachsenw. Dresden 2 (2. Bezirksliga Erwachsene, Gruppe 2)
LOCATION:Sporthalle, Karl-Liebknecht-Str. 53, 01109, Dresden
CLASS:PUBLIC
DTSTART:20260418T120000Z
DTEND:20260418T143000Z
DTSTAMP:20260423T174916Z
END:VEVENT
END:VCALENDAR

