BEGIN:VCALENDAR
VERSION:2.0
PRODID:https://Dresden.tischtennislive.de
METHOD:PUBLISH
X-WR-CALNAME:TischtennisLive-Spieltermine
X-WR-TIMEZONE:Europe/Berlin
BEGIN:VEVENT
UID: W4S_96_941838
ORGANIZER;CN="Rico Felix":MAILTO:NoReply@TischtennisLive.de
SUMMARY:SG Dresdner Bank - TTC Elbe Dresden 2 (Bezirkspokal - Herren)
DESCRIPTION:SG Dresdner Bank - TTC Elbe Dresden 2 (Bezirkspokal - Herren)
LOCATION:TH der Schule für Erziehungshilfe (ehem. 130. GS), Karl-Laux-Strasse 5, 01219, Dresden
CLASS:PUBLIC
DTSTART:20240831T080000Z
DTEND:20240831T103000Z
DTSTAMP:20260421T090722Z
END:VEVENT
BEGIN:VEVENT
UID: W4S_96_941840
ORGANIZER;CN="Rico Felix":MAILTO:NoReply@TischtennisLive.de
SUMMARY:SG Mot. Trachenberge - SG Dresdner Bank (Bezirkspokal - Herren)
DESCRIPTION:SG Mot. Trachenberge - SG Dresdner Bank (Bezirkspokal - Herren)
LOCATION:TH der Schule für Erziehungshilfe (ehem. 130. GS), Karl-Laux-Strasse 5, 01219, Dresden
CLASS:PUBLIC
DTSTART:20240831T093000Z
DTEND:20240831T120000Z
DTSTAMP:20260421T090722Z
END:VEVENT
BEGIN:VEVENT
UID: W4S_96_941842
ORGANIZER;CN="Rico Felix":MAILTO:NoReply@TischtennisLive.de
SUMMARY:SG Dresdner Bank - SV Saxonia Freiberg (Bezirkspokal - Herren)
DESCRIPTION:SG Dresdner Bank - SV Saxonia Freiberg (Bezirkspokal - Herren)
LOCATION:TH der Schule für Erziehungshilfe (ehem. 130. GS), Karl-Laux-Strasse 5, 01219, Dresden
CLASS:PUBLIC
DTSTART:20240831T110000Z
DTEND:20240831T133000Z
DTSTAMP:20260421T090722Z
END:VEVENT
BEGIN:VEVENT
UID: W4S_96_937767
ORGANIZER;CN="Bernd Steigemann":MAILTO:NoReply@TischtennisLive.de
SUMMARY:SG Dresdner Bank - SG Oelsa (Bezirksklasse Herren, Gruppe 1)
DESCRIPTION:SG Dresdner Bank - SG Oelsa (Bezirksklasse Herren, Gruppe 1)
LOCATION:TH der Schule für Erziehungshilfe (ehem. 130. GS), Karl-Laux-Strasse 5, 01219, Dresden
CLASS:PUBLIC
DTSTART:20240921T160000Z
DTEND:20240921T183000Z
DTSTAMP:20260421T090722Z
END:VEVENT
BEGIN:VEVENT
UID: W4S_96_937771
ORGANIZER;CN="Bernd Steigemann":MAILTO:NoReply@TischtennisLive.de
SUMMARY:SC Freital - SG Dresdner Bank (Bezirksklasse Herren, Gruppe 1)
DESCRIPTION:SC Freital - SG Dresdner Bank (Bezirksklasse Herren, Gruppe 1)
LOCATION:Sporthalle Mittelschule Hainsberg, Richard-Wolf-Str. 1, 01705, Freital
CLASS:PUBLIC
DTSTART:20240927T173000Z
DTEND:20240927T200000Z
DTSTAMP:20260421T090722Z
END:VEVENT
BEGIN:VEVENT
UID: W4S_96_937775
ORGANIZER;CN="Bernd Steigemann":MAILTO:NoReply@TischtennisLive.de
SUMMARY:SG Dresdner Bank - TSV Leubnitz 2 (Bezirksklasse Herren, Gruppe 1)
DESCRIPTION:SG Dresdner Bank - TSV Leubnitz 2 (Bezirksklasse Herren, Gruppe 1)
LOCATION:TH der Schule für Erziehungshilfe (ehem. 130. GS), Karl-Laux-Strasse 5, 01219, Dresden
CLASS:PUBLIC
DTSTART:20241012T160000Z
DTEND:20241012T183000Z
DTSTAMP:20260421T090722Z
END:VEVENT
BEGIN:VEVENT
UID: W4S_96_937781
ORGANIZER;CN="Bernd Steigemann":MAILTO:NoReply@TischtennisLive.de
SUMMARY:SV Sachsenw. Dresden 2 - SG Dresdner Bank (Bezirksklasse Herren, Gruppe 1)
DESCRIPTION:SV Sachsenw. Dresden 2 - SG Dresdner Bank (Bezirksklasse Herren, Gruppe 1)
LOCATION:Schule am Landgraben, Pirnaer Landstr. 55, 01257, Dresden
CLASS:PUBLIC
DTSTART:20241101T183000Z
DTEND:20241101T210000Z
DTSTAMP:20260421T090722Z
END:VEVENT
BEGIN:VEVENT
UID: W4S_96_937788
ORGANIZER;CN="Bernd Steigemann":MAILTO:NoReply@TischtennisLive.de
SUMMARY:SG Dresdner Bank - TSV Graupa 3 (Bezirksklasse Herren, Gruppe 1)
DESCRIPTION:SG Dresdner Bank - TSV Graupa 3 (Bezirksklasse Herren, Gruppe 1)
LOCATION:TH der Schule für Erziehungshilfe (ehem. 130. GS), Karl-Laux-Strasse 5, 01219, Dresden
CLASS:PUBLIC
DTSTART:20241109T170000Z
DTEND:20241109T193000Z
DTSTAMP:20260421T090722Z
END:VEVENT
BEGIN:VEVENT
UID: W4S_96_937791
ORGANIZER;CN="Bernd Steigemann":MAILTO:NoReply@TischtennisLive.de
SUMMARY:TTC Elbe Dresden 6 - SG Dresdner Bank (Bezirksklasse Herren, Gruppe 1)
DESCRIPTION:TTC Elbe Dresden 6 - SG Dresdner Bank (Bezirksklasse Herren, Gruppe 1)
LOCATION:Turnhalle der 113. Grundschule, Georg-Nerlich-Str. 1, 01307, Dresden
CLASS:PUBLIC
DTSTART:20241115T183000Z
DTEND:20241115T210000Z
DTSTAMP:20260421T090722Z
END:VEVENT
BEGIN:VEVENT
UID: W4S_96_937798
ORGANIZER;CN="Bernd Steigemann":MAILTO:NoReply@TischtennisLive.de
SUMMARY:SG Dresdner Bank - ESV Lok Pirna (Bezirksklasse Herren, Gruppe 1)
DESCRIPTION:SG Dresdner Bank - ESV Lok Pirna (Bezirksklasse Herren, Gruppe 1)
LOCATION:TH der Schule für Erziehungshilfe (ehem. 130. GS), Karl-Laux-Strasse 5, 01219, Dresden
CLASS:PUBLIC
DTSTART:20241123T170000Z
DTEND:20241123T193000Z
DTSTAMP:20260421T090722Z
END:VEVENT
BEGIN:VEVENT
UID: W4S_96_937799
ORGANIZER;CN="Bernd Steigemann":MAILTO:NoReply@TischtennisLive.de
SUMMARY:TTC 49 Freital 2 - SG Dresdner Bank (Bezirksklasse Herren, Gruppe 1)
DESCRIPTION:TTC 49 Freital 2 - SG Dresdner Bank (Bezirksklasse Herren, Gruppe 1)
LOCATION:Turnhalle der Waldblick-Mittelschule, Waldblick 42, 01705, Freital
CLASS:PUBLIC
DTSTART:20241129T183000Z
DTEND:20241129T210000Z
DTSTAMP:20260421T090722Z
END:VEVENT
BEGIN:VEVENT
UID: W4S_96_937807
ORGANIZER;CN="Bernd Steigemann":MAILTO:NoReply@TischtennisLive.de
SUMMARY:SG Dresdner Bank - SV Bannewitz 2 (Bezirksklasse Herren, Gruppe 1)
DESCRIPTION:SG Dresdner Bank - SV Bannewitz 2 (Bezirksklasse Herren, Gruppe 1)
LOCATION:TH der Schule für Erziehungshilfe (ehem. 130. GS), Karl-Laux-Strasse 5, 01219, Dresden
CLASS:PUBLIC
DTSTART:20241207T170000Z
DTEND:20241207T193000Z
DTSTAMP:20260421T090722Z
END:VEVENT
BEGIN:VEVENT
UID: W4S_96_937853
ORGANIZER;CN="Bernd Steigemann":MAILTO:NoReply@TischtennisLive.de
SUMMARY:SG Oelsa - SG Dresdner Bank (Bezirksklasse Herren, Gruppe 1)
DESCRIPTION:SG Oelsa - SG Dresdner Bank (Bezirksklasse Herren, Gruppe 1)
LOCATION:Sporthalle, Possendorfer Straße 1, 01734, Rabenau OT Oelsa
CLASS:PUBLIC
DTSTART:20250110T183000Z
DTEND:20250110T210000Z
DTSTAMP:20260421T090722Z
END:VEVENT
BEGIN:VEVENT
UID: W4S_96_937860
ORGANIZER;CN="Bernd Steigemann":MAILTO:NoReply@TischtennisLive.de
SUMMARY:SG Dresdner Bank - SC Freital (Bezirksklasse Herren, Gruppe 1)
DESCRIPTION:SG Dresdner Bank - SC Freital (Bezirksklasse Herren, Gruppe 1)
LOCATION:TH der Schule für Erziehungshilfe (ehem. 130. GS), Karl-Laux-Strasse 5, 01219, Dresden
CLASS:PUBLIC
DTSTART:20250118T170000Z
DTEND:20250118T193000Z
DTSTAMP:20260421T090722Z
END:VEVENT
BEGIN:VEVENT
UID: W4S_96_937864
ORGANIZER;CN="Bernd Steigemann":MAILTO:NoReply@TischtennisLive.de
SUMMARY:TSV Leubnitz 2 - SG Dresdner Bank (Bezirksklasse Herren, Gruppe 1)
DESCRIPTION:TSV Leubnitz 2 - SG Dresdner Bank (Bezirksklasse Herren, Gruppe 1)
LOCATION:Turnhalle der 68.Grundschule Dresden, Heiligenbornstraße 15, 01219, Dresden
CLASS:PUBLIC
DTSTART:20250125T130000Z
DTEND:20250125T153000Z
DTSTAMP:20260421T090722Z
END:VEVENT
BEGIN:VEVENT
UID: W4S_96_937867
ORGANIZER;CN="Bernd Steigemann":MAILTO:NoReply@TischtennisLive.de
SUMMARY:SG Dresdner Bank - SV Sachsenw. Dresden 2 (Bezirksklasse Herren, Gruppe 1)
DESCRIPTION:SG Dresdner Bank - SV Sachsenw. Dresden 2 (Bezirksklasse Herren, Gruppe 1)
LOCATION:TH der Schule für Erziehungshilfe (ehem. 130. GS), Karl-Laux-Strasse 5, 01219, Dresden
CLASS:PUBLIC
DTSTART:20250201T170000Z
DTEND:20250201T193000Z
DTSTAMP:20260421T090722Z
END:VEVENT
BEGIN:VEVENT
UID: W4S_96_937870
ORGANIZER;CN="Bernd Steigemann":MAILTO:NoReply@TischtennisLive.de
SUMMARY:TSV Graupa 3 - SG Dresdner Bank (Bezirksklasse Herren, Gruppe 1)
DESCRIPTION:TSV Graupa 3 - SG Dresdner Bank (Bezirksklasse Herren, Gruppe 1)
LOCATION:Turnhalle Diesterweg - Grundschule, Prof.-Roßmäßler-Str. 42, 01796, Pirna - Copitz
CLASS:PUBLIC
DTSTART:20250207T183000Z
DTEND:20250207T210000Z
DTSTAMP:20260421T090722Z
END:VEVENT
BEGIN:VEVENT
UID: W4S_96_937881
ORGANIZER;CN="Bernd Steigemann":MAILTO:NoReply@TischtennisLive.de
SUMMARY:SG Dresdner Bank - TTC 49 Freital 2 (Bezirksklasse Herren, Gruppe 1)
DESCRIPTION:SG Dresdner Bank - TTC 49 Freital 2 (Bezirksklasse Herren, Gruppe 1)
LOCATION:TH der Schule für Erziehungshilfe (ehem. 130. GS), Karl-Laux-Strasse 5, 01219, Dresden
CLASS:PUBLIC
DTSTART:20250307T183000Z
DTEND:20250307T210000Z
DTSTAMP:20260421T090722Z
END:VEVENT
BEGIN:VEVENT
UID: W4S_96_937885
ORGANIZER;CN="Bernd Steigemann":MAILTO:NoReply@TischtennisLive.de
SUMMARY:SG Dresdner Bank - TTC Elbe Dresden 6 (Bezirksklasse Herren, Gruppe 1)
DESCRIPTION:SG Dresdner Bank - TTC Elbe Dresden 6 (Bezirksklasse Herren, Gruppe 1)
LOCATION:TH der Schule für Erziehungshilfe (ehem. 130. GS), Karl-Laux-Strasse 5, 01219, Dresden
CLASS:PUBLIC
DTSTART:20250315T170000Z
DTEND:20250315T193000Z
DTSTAMP:20260421T090722Z
END:VEVENT
BEGIN:VEVENT
UID: W4S_96_937889
ORGANIZER;CN="Bernd Steigemann":MAILTO:NoReply@TischtennisLive.de
SUMMARY:ESV Lok Pirna - SG Dresdner Bank (Bezirksklasse Herren, Gruppe 1)
DESCRIPTION:ESV Lok Pirna - SG Dresdner Bank (Bezirksklasse Herren, Gruppe 1)
LOCATION:Lok Halle, Einsteinstraße 16, 01796, Pirna
CLASS:PUBLIC
DTSTART:20250322T150000Z
DTEND:20250322T173000Z
DTSTAMP:20260421T090722Z
END:VEVENT
BEGIN:VEVENT
UID: W4S_96_937897
ORGANIZER;CN="Bernd Steigemann":MAILTO:NoReply@TischtennisLive.de
SUMMARY:SV Bannewitz 2 - SG Dresdner Bank (Bezirksklasse Herren, Gruppe 1)
DESCRIPTION:SV Bannewitz 2 - SG Dresdner Bank (Bezirksklasse Herren, Gruppe 1)
LOCATION:Dreifeldhalle Bannewitz, Max-Dittrich-Straße 11, 01728, Bannewitz
CLASS:PUBLIC
DTSTART:20250404T173000Z
DTEND:20250404T200000Z
DTSTAMP:20260421T090722Z
END:VEVENT
END:VCALENDAR

